BEGIN:VCALENDAR
VERSION:2.0
PRODID:-//APAG- Adult Performance Artists Guild - ECPv6.15.20//NONSGML v1.0//EN
CALSCALE:GREGORIAN
METHOD:PUBLISH
X-WR-CALNAME:APAG- Adult Performance Artists Guild
X-ORIGINAL-URL:https://apagunion.com
X-WR-CALDESC:Events for APAG- Adult Performance Artists Guild
REFRESH-INTERVAL;VALUE=DURATION:PT1H
X-Robots-Tag:noindex
X-PUBLISHED-TTL:PT1H
BEGIN:VTIMEZONE
TZID:America/Los_Angeles
BEGIN:DAYLIGHT
TZOFFSETFROM:-0800
TZOFFSETTO:-0700
TZNAME:PDT
DTSTART:20220313T100000
END:DAYLIGHT
BEGIN:STANDARD
TZOFFSETFROM:-0700
TZOFFSETTO:-0800
TZNAME:PST
DTSTART:20221106T090000
END:STANDARD
BEGIN:DAYLIGHT
TZOFFSETFROM:-0800
TZOFFSETTO:-0700
TZNAME:PDT
DTSTART:20230312T100000
END:DAYLIGHT
BEGIN:STANDARD
TZOFFSETFROM:-0700
TZOFFSETTO:-0800
TZNAME:PST
DTSTART:20231105T090000
END:STANDARD
BEGIN:DAYLIGHT
TZOFFSETFROM:-0800
TZOFFSETTO:-0700
TZNAME:PDT
DTSTART:20240310T100000
END:DAYLIGHT
BEGIN:STANDARD
TZOFFSETFROM:-0700
TZOFFSETTO:-0800
TZNAME:PST
DTSTART:20241103T090000
END:STANDARD
END:VTIMEZONE
BEGIN:VEVENT
DTSTART;TZID=America/Los_Angeles:20230719T180000
DTEND;TZID=America/Los_Angeles:20230719T200000
DTSTAMP:20260423T153831
CREATED:20230710T204732Z
LAST-MODIFIED:20230710T204732Z
UID:2117-1689789600-1689796800@apagunion.com
SUMMARY:APAG Member Meeting July 19\, 2023
DESCRIPTION:Join us for our next APAG Member meeting set for Wednesday\, July 19\, 2023. The meeting will begin at 6pm PST/ 9pm EST. Meetings are open to APAG members only. To add items to the agenda please mention them in the comments section in your RSVP. \nTo RSVP for the July 19 meeting\, click this link . If you are not a member of APAG\, but you would like to join\, visit our JOIN page for more information. \nAll APAG meeting follow parliamentary procedure. To learn more information about this\, visit Robert’s Rules of Order. \n 
URL:https://apagunion.com/event/apag-member-meeting-july-19-2023/
LOCATION:ZOOM
CATEGORIES:APAG events,Member Meetings
END:VEVENT
END:VCALENDAR