BEGIN:VCALENDAR
VERSION:2.0
PRODID:-//APAG- Adult Performance Artists Guild - ECPv6.15.20//NONSGML v1.0//EN
CALSCALE:GREGORIAN
METHOD:PUBLISH
X-ORIGINAL-URL:https://apagunion.com
X-WR-CALDESC:Events for APAG- Adult Performance Artists Guild
REFRESH-INTERVAL;VALUE=DURATION:PT1H
X-Robots-Tag:noindex
X-PUBLISHED-TTL:PT1H
BEGIN:VTIMEZONE
TZID:UTC
BEGIN:STANDARD
TZOFFSETFROM:+0000
TZOFFSETTO:+0000
TZNAME:UTC
DTSTART:20180101T000000
END:STANDARD
END:VTIMEZONE
BEGIN:VEVENT
DTSTART;TZID=UTC:20190619T130000
DTEND;TZID=UTC:20190619T160000
DTSTAMP:20260423T140131
CREATED:20190614T075854Z
LAST-MODIFIED:20190614T075854Z
UID:501-1560949200-1560960000@apagunion.com
SUMMARY:#instaSTRIKE New York
DESCRIPTION:Adult performers\, exotic dancers\, web cam performers\, and sex workers are being wrongfully deleted from the social media platform instagram. For two months\, we have been organizing those wrongfully deleted to stand up and fight the social media giant. At this time we have nearly 1000 people signed on to our legal fight. We have a team of lawyers looking to create a class action lawsuit against IG because of the blatant discrimination of legal workers across the world. \nAs the leader of this fight\, we have been implmenting different plans of action as we organize. From a five day long social media campaign geared towards the heads of instagram\, that included hundreds of people tweeting about our cause\, to organizing a protest outside each of the instagram offices in the US on Wednesday June 19\, 2019. \nWe plan to organize a strike  with performers\, dancers\, cam performers\, and sex workers\, to meet at the same time and protest together.  We will be renting passenger vans from Los Angeles to Menlo Park\, California where instagram is located. We plan to raise funds to cover transportation costs\, food \, etc. for our protesters. For many of them\, this will be a twelve hour journey just in travel time. \nNumerous mainstream media outlets have covered our battle thus far\, and many more will be sharing the news of our protests. To date\, Vice.com\, Metro UK\, the Guardian\, Jezebel\,  AVN\, Xbiz\, and numerous other outlets have posted stories about our fight\, with more to come. \nTo sponsor the protest\, or for more information\, contact us. The Adult Performers Actors Guild is a non profit organization and all donations are tax deductible. Our  email is members@APAGUnion.com \nFor performers in New York\, there will be a meetup zone for you. Be sure to sign up to get included on the email list for meetup location and information!  The time of the strike in New York is 1pm-4pm EST- We will be striking at the same time in California at the same time!
URL:https://apagunion.com/event/instastrike-new-york/
LOCATION:instagram New York\, 770 Broadway\, New York\, NY\, 10003\, United States
CATEGORIES:APAG events
ORGANIZER;CN="Alana Evans":MAILTO:members@apagunion.com
END:VEVENT
BEGIN:VEVENT
DTSTART;TZID=UTC:20190619T100000
DTEND;TZID=UTC:20190619T140000
DTSTAMP:20260423T140131
CREATED:20190614T073251Z
LAST-MODIFIED:20190614T074129Z
UID:492-1560938400-1560952800@apagunion.com
SUMMARY:#instaSTRIKE Menlo Park
DESCRIPTION:Adult performers\, exotic dancers\, web cam performers\, and sex workers are being wrongfully deleted from the social media platform instagram. For two months\, we have been organizing those wrongfully deleted to stand up and fight the social media giant. At this time we have nearly 1000 people signed on to our legal fight. We have a team of lawyers looking to create a class action lawsuit against IG because of the blatant discrimination of legal workers across the world. \nAs the leader of this fight\, we have been implmenting different plans of action as we organize. From a five day long social media campaign geared towards the heads of instagram\, that included hundreds of people tweeting about our cause\, to organizing a protest outside each of the instagram offices in the US on Wednesday June 19\, 2019. \nWe plan to organize a strike  with performers\, dancers\, cam performers\, and sex workers\, to meet at the same time and protest together.  We will be renting passenger vans from Los Angeles to Menlo Park\, California where instagram is located. We plan to raise funds to cover transportation costs\, food \, etc. for our protesters. For many of them\, this will be a twelve hour journey just in travel time. \nNumerous mainstream media outlets have covered our battle thus far\, and many more will be sharing the news of our protests. To date\, Vice.com\, Metro UK\, the Guardian\, Jezebel\,  AVN\, Xbiz\, and numerous other outlets have posted stories about our fight\, with more to come. \nTo sponsor the protest\, or for more information\, contact us. The Adult Performers Actors Guild is a non profit organization and all donations are tax deductible. Our  email is members@APAGUnion.com \nFor performers that are located in Los Angeles\, we have transportation to the Menlo Park strike based on need. We ask that if you would like to attend the strike\, please fill out the form. We will be providing transportation on a first come first serve basis for verifiable performers\, but anyone is welcome to attend the strike in support on the scheduled day if providing your own transport. We look forward to having you all there in solidarity! \n 
URL:https://apagunion.com/event/instastrike/
LOCATION:instagram offices\, 1 Hacker way\, Menlo Park\, CA\, 94025\, United States
CATEGORIES:APAG events
ORGANIZER;CN="Alana Evans":MAILTO:members@apagunion.com
END:VEVENT
END:VCALENDAR